BEGIN:VCALENDAR
VERSION:2.0
PRODID:-//Marcus Performing Arts Center - ECPv6.15.20//NONSGML v1.0//EN
CALSCALE:GREGORIAN
METHOD:PUBLISH
X-ORIGINAL-URL:https://www.marcuscenter.org
X-WR-CALDESC:Events for Marcus Performing Arts Center
REFRESH-INTERVAL;VALUE=DURATION:PT1H
X-Robots-Tag:noindex
X-PUBLISHED-TTL:PT1H
BEGIN:VTIMEZONE
TZID:America/Chicago
BEGIN:DAYLIGHT
TZOFFSETFROM:-0600
TZOFFSETTO:-0500
TZNAME:CDT
DTSTART:20240310T080000
END:DAYLIGHT
BEGIN:STANDARD
TZOFFSETFROM:-0500
TZOFFSETTO:-0600
TZNAME:CST
DTSTART:20241103T070000
END:STANDARD
BEGIN:DAYLIGHT
TZOFFSETFROM:-0600
TZOFFSETTO:-0500
TZNAME:CDT
DTSTART:20250309T080000
END:DAYLIGHT
BEGIN:STANDARD
TZOFFSETFROM:-0500
TZOFFSETTO:-0600
TZNAME:CST
DTSTART:20251102T070000
END:STANDARD
BEGIN:DAYLIGHT
TZOFFSETFROM:-0600
TZOFFSETTO:-0500
TZNAME:CDT
DTSTART:20260308T080000
END:DAYLIGHT
BEGIN:STANDARD
TZOFFSETFROM:-0500
TZOFFSETTO:-0600
TZNAME:CST
DTSTART:20261101T070000
END:STANDARD
BEGIN:DAYLIGHT
TZOFFSETFROM:-0600
TZOFFSETTO:-0500
TZNAME:CDT
DTSTART:20270314T080000
END:DAYLIGHT
BEGIN:STANDARD
TZOFFSETFROM:-0500
TZOFFSETTO:-0600
TZNAME:CST
DTSTART:20271107T070000
END:STANDARD
END:VTIMEZONE
BEGIN:VEVENT
DTSTART;TZID=America/Chicago:20251123T180000
DTEND;TZID=America/Chicago:20251123T180000
DTSTAMP:20260420T123816
CREATED:20250611T143331Z
LAST-MODIFIED:20251009T213025Z
UID:7197-1763920800-1763920800@www.marcuscenter.org
SUMMARY:A Celtic Christmas
DESCRIPTION:Direct from its Off-Broadway season\, A Taste of Ireland – The Irish Music & Dance Sensation\, presents its holiday spectacular\, A Celtic Christmas. Prepare to be enchanted with some of the world’s finest Irish dancers and musicians bringing the spirit of Christmas to life\, in a show that will make you laugh\, cry\, and sing into the night.  \nExperience the magic as world-class performers blend melodic folk mash-ups\, acapella tap battles\, and heartwarming storytelling in one truly unforgettable performance.   \nFeaturing former World Irish dance champions and stars from Lord of the Dance and Riverdance\, A Celtic Christmas delivers a holiday spectacular packed with Irish wit\, traditional tunes and heartfelt ballads\, alongside all your favorite carols. The show’s exciting mix of electrifying rhythms and extraordinary talent promises an evening brimming with Irish charm and enthralling entertainment\, all in one powerhouse event. \nImmerse yourself in a traditional Celtic landscape and let the magic of an Irish Christmas transport you to a world filled with excitement and wonder\, where vibrant music and dance embody the heartbeat of the festive season.  \nThis event is presented by an independent organization separate from the Marcus Performing Arts Center.  \n*Please Note: Musical instruments are subject to change from performance to performance
URL:https://www.marcuscenter.org/event/a-celtic-christmas/
LOCATION:Uihlein Hall\, 929 N Water St\, Milwaukee\, WI\, 53202\, United States
CATEGORIES:Outside Presenter
ATTACH;FMTTYPE=image/jpeg:https://www.marcuscenter.org/wp-content/uploads/2025/06/Untitled-4-11.jpg
END:VEVENT
BEGIN:VEVENT
DTSTART;TZID=America/Chicago:20260214T193000
DTEND;TZID=America/Chicago:20260214T193000
DTSTAMP:20260420T123816
CREATED:20251218T230612Z
LAST-MODIFIED:20251219T170958Z
UID:14051-1771097400-1771097400@www.marcuscenter.org
SUMMARY:Wish You Were Floyd- Pink Floyd Tribute
DESCRIPTION:Wish You were Floyd delivers a critically-acclaimed\, stunningly authentic and heartfelt tribute experience\, faithfully and expertly reproducing the timeless musical soundscapes of Pink Floyd\, with entirely live music and vocals. Immerse yourself in this captivating journey through Pink Floyd’s musical catalog with this top-level act!  \n“From the first note to the last\, the night was a blast…if you love Pink Floyd you have to get to one of these shows…it was the kind of night that reminds you why live music is so magical.” – Wisconsin Entertainer  \nThis event is presented by Fearless Productions\, an independent organization separate from the Marcus Performing Arts Center. 
URL:https://www.marcuscenter.org/event/wish-you-were-floyd-pink-floyd-tribute/
LOCATION:Wilson Theater at Vogel Hall\, 121 E State St\, Milwaukee\, WI\, 53202\, United States
CATEGORIES:Outside Presenter
ATTACH;FMTTYPE=image/jpeg:https://www.marcuscenter.org/wp-content/uploads/2025/12/WYWF-1080x1080-1.jpeg
END:VEVENT
BEGIN:VEVENT
DTSTART;TZID=America/Chicago:20260228T190000
DTEND;TZID=America/Chicago:20260228T190000
DTSTAMP:20260420T123816
CREATED:20251218T230342Z
LAST-MODIFIED:20251219T171138Z
UID:14055-1772305200-1772305200@www.marcuscenter.org
SUMMARY:Tre Floyd's Black Girl Therapy 2
DESCRIPTION:Six different black girls\, strangers to each other\, go to a group therapy session.  They may be strangers going in but they’ll never be the same coming out.  The therapist has each girl to choose her number which will define who she is.  Come join the session and find the answer to what is your number because every girl has a breaking point… what’s yours?  \nWritten and directed by Tre Floyd  \nThis event is presented by Tre Floyd Productions\, an independent organization separate from the Marcus Performing Arts Center.  
URL:https://www.marcuscenter.org/event/tre-floyds-black-girl-therapy-2/
LOCATION:Wilson Theater at Vogel Hall\, 121 E State St\, Milwaukee\, WI\, 53202\, United States
CATEGORIES:Outside Presenter
ATTACH;FMTTYPE=image/jpeg:https://www.marcuscenter.org/wp-content/uploads/2025/12/Black-Girl-Therapy-2-Artwork.jpg
END:VEVENT
END:VCALENDAR