BEGIN:VCALENDAR
VERSION:2.0
PRODID:-//Marcus Performing Arts Center - ECPv6.15.20//NONSGML v1.0//EN
CALSCALE:GREGORIAN
METHOD:PUBLISH
X-ORIGINAL-URL:https://www.marcuscenter.org
X-WR-CALDESC:Events for Marcus Performing Arts Center
REFRESH-INTERVAL;VALUE=DURATION:PT1H
X-Robots-Tag:noindex
X-PUBLISHED-TTL:PT1H
BEGIN:VTIMEZONE
TZID:America/Chicago
BEGIN:DAYLIGHT
TZOFFSETFROM:-0600
TZOFFSETTO:-0500
TZNAME:CDT
DTSTART:20230312T080000
END:DAYLIGHT
BEGIN:STANDARD
TZOFFSETFROM:-0500
TZOFFSETTO:-0600
TZNAME:CST
DTSTART:20231105T070000
END:STANDARD
BEGIN:DAYLIGHT
TZOFFSETFROM:-0600
TZOFFSETTO:-0500
TZNAME:CDT
DTSTART:20240310T080000
END:DAYLIGHT
BEGIN:STANDARD
TZOFFSETFROM:-0500
TZOFFSETTO:-0600
TZNAME:CST
DTSTART:20241103T070000
END:STANDARD
BEGIN:DAYLIGHT
TZOFFSETFROM:-0600
TZOFFSETTO:-0500
TZNAME:CDT
DTSTART:20250309T080000
END:DAYLIGHT
BEGIN:STANDARD
TZOFFSETFROM:-0500
TZOFFSETTO:-0600
TZNAME:CST
DTSTART:20251102T070000
END:STANDARD
END:VTIMEZONE
BEGIN:VEVENT
DTSTART;TZID=America/Chicago:20240703T120000
DTEND;TZID=America/Chicago:20240703T120000
DTSTAMP:20260420T100223
CREATED:20240611T192506Z
LAST-MODIFIED:20240618T155103Z
UID:5756-1720008000-1720008000@www.marcuscenter.org
SUMMARY:Kids from Wisconsin
DESCRIPTION:2024 Summer Tour – Larger Than Life: The Great Entertainers\nWidely recognized for their versatile talents and groundbreaking performances\, these entertainment icons launched the music industry and pop culture into another stratosphere. The 56th Kids From Wisconsin troupe showcase these “larger than life” performing artists in their highly energized and highly anticipated 2024 summer production. Featured are historic bands and orchestras that have sold out world stadiums\, kings and queens from rock to pop\, legendary Broadway stars and classic entertainers that will live forever on the stage and screen. \nWho are the Kids? \nEach year\, we audition and select 36 of Wisconsin’s most talented young adults to tour with Kids From Wisconsin in our pre-professional summer production. Troupe members get the opportunity to work with our Realize Your Dream community enrichment program facilitating our free summer workshops\, networking with professional alumni\, and building crucial performing skills. \nMeet the Cast on the Kids from WI website!
URL:https://www.marcuscenter.org/event/kids-from-wisconsin-2/
LOCATION:Peck Pavilion\, 929 N Water St\, Milwaukee\, WI\, 53202\, United States
CATEGORIES:Outside Presenter
ATTACH;FMTTYPE=image/jpeg:https://www.marcuscenter.org/wp-content/uploads/2024/06/Kids-from-Wisconsin-Featured-Image.jpg
END:VEVENT
END:VCALENDAR