BEGIN:VCALENDAR
VERSION:2.0
PRODID:-//Marcus Performing Arts Center - ECPv6.15.20//NONSGML v1.0//EN
CALSCALE:GREGORIAN
METHOD:PUBLISH
X-WR-CALNAME:Marcus Performing Arts Center
X-ORIGINAL-URL:https://www.marcuscenter.org
X-WR-CALDESC:Events for Marcus Performing Arts Center
REFRESH-INTERVAL;VALUE=DURATION:PT1H
X-Robots-Tag:noindex
X-PUBLISHED-TTL:PT1H
BEGIN:VTIMEZONE
TZID:America/Chicago
BEGIN:DAYLIGHT
TZOFFSETFROM:-0600
TZOFFSETTO:-0500
TZNAME:CDT
DTSTART:20230312T080000
END:DAYLIGHT
BEGIN:STANDARD
TZOFFSETFROM:-0500
TZOFFSETTO:-0600
TZNAME:CST
DTSTART:20231105T070000
END:STANDARD
BEGIN:DAYLIGHT
TZOFFSETFROM:-0600
TZOFFSETTO:-0500
TZNAME:CDT
DTSTART:20240310T080000
END:DAYLIGHT
BEGIN:STANDARD
TZOFFSETFROM:-0500
TZOFFSETTO:-0600
TZNAME:CST
DTSTART:20241103T070000
END:STANDARD
BEGIN:DAYLIGHT
TZOFFSETFROM:-0600
TZOFFSETTO:-0500
TZNAME:CDT
DTSTART:20250309T080000
END:DAYLIGHT
BEGIN:STANDARD
TZOFFSETFROM:-0500
TZOFFSETTO:-0600
TZNAME:CST
DTSTART:20251102T070000
END:STANDARD
END:VTIMEZONE
BEGIN:VEVENT
DTSTART;TZID=America/Chicago:20240209T193000
DTEND;TZID=America/Chicago:20240209T193000
DTSTAMP:20260423T035532
CREATED:20230829T161515Z
LAST-MODIFIED:20240205T154747Z
UID:4533-1707507000-1707507000@www.marcuscenter.org
SUMMARY:Black Violin
DESCRIPTION:The Black Violin Experience Tour showcases the two-time GRAMMY-nominated duo Black Violin\, brought to life by Kev Marcus and Wil Baptiste\, invoking a musical fusion of exquisite classical sounds and exhilarating hip-hop beats. This is a concert performance that boldly merges centuries of music and unites audiences with a message of hope and possibility. Audiences will be immersed in a sound that transcends categories and celebrates ingenuity and ambition\, proving anything is possible.  \nOn stage\, Kev Marcus gives an electrifying violin performance along with Wil Baptiste’s magnetizing viola and vocal performance. Joining them are Nat Stokes on drums\, DJ SPS on the turntable\, and Liston Gregory on keys. Together they are reconceptualizing what a violin concert looks and sounds like\, building bridges to a place where Mozart\, Marvin Gaye\, and Kendrick Lamar harmoniously coexist. Black Violin invites you to think outside of the box.  \nOpening for Black Violin is singer/songwriter\, Abraham Alexander. With over 5.5 million Spotify streams for his song\, “Stay\,” Alexander’s music is shaped with components of soul\, hip-hop and blues.
URL:https://www.marcuscenter.org/event/black-violin/
LOCATION:Uihlein Hall\, 929 N Water St\, Milwaukee\, WI\, 53202\, United States
CATEGORIES:23-24 Build Your Own Series,Culture Collective
ATTACH;FMTTYPE=image/jpeg:https://www.marcuscenter.org/wp-content/uploads/2023/08/Black-Violin-Featured-Image.jpg
END:VEVENT
BEGIN:VEVENT
DTSTART;TZID=America/Chicago:20240214T193000
DTEND;TZID=America/Chicago:20240214T193000
DTSTAMP:20260423T035532
CREATED:20230327T234342Z
LAST-MODIFIED:20240208T153741Z
UID:3639-1707939000-1707939000@www.marcuscenter.org
SUMMARY:Dance Theatre of Harlem
DESCRIPTION:A singular presence in the ballet world\, the Dance Theatre of Harlem presents a powerful vision for ballet in the 21st century. The 18-member company’s forward-thinking repertoire includes treasured classics\, neoclassical works by George Balanchine and resident choreographer Robert Garland\, and innovative contemporary works that use the language of ballet to celebrate African American culture. \nThrough performances\, community engagement\, and arts education\, the Company carries forward Dance Theatre of Harlem’s message of empowerment through the arts for all. \nDance Theatre of Harlem is presented with support from the New England Foundation for the Arts. \nThis show is part of the 2023/24 MPAC Presents Dance Series.
URL:https://www.marcuscenter.org/event/dance-theatre-of-harlem/
LOCATION:Uihlein Hall\, 929 N Water St\, Milwaukee\, WI\, 53202\, United States
CATEGORIES:23-24 Build Your Own Series,23-24 Dance Series,Culture Collective
ATTACH;FMTTYPE=image/jpeg:https://www.marcuscenter.org/wp-content/uploads/2023/03/DTH-Company-with-Arthur-Mitchell-Portrait.-Photo-by-Janee-Smith-1-e1706303814734.jpg
END:VEVENT
BEGIN:VEVENT
DTSTART;TZID=America/Chicago:20240215T193000
DTEND;TZID=America/Chicago:20240215T193000
DTSTAMP:20260423T035532
CREATED:20230622T175753Z
LAST-MODIFIED:20240103T161659Z
UID:4107-1708025400-1708025400@www.marcuscenter.org
SUMMARY:JOHNNY CASH – The Official Concert Experience
DESCRIPTION:The music never stops in JOHNNY CASH – The Official Concert Experience. Produced in collaboration with the Estate of Johnny Cash\, this multimedia celebration brings songs and stories from the “Man in Black” to the stage in a way that audiences haven’t seen or heard before.  \nWith video of Johnny from episodes of The Johnny Cash TV Show projected on a screen above the stage\, a live band and singers will accompany him in perfect sync. This concert experience will showcase iconic performances from the TV show and highlight the spirit of the legend by revisiting some of his memorable words and anecdotes.  \nCash will perform some of his biggest hits\, including “Folsom Prison Blues\,” “Ring of Fire\,” and “I Walk the Line\,” and share stories of people he met along the way whose causes he championed – the working man from all walks of life. In addition to never-before-seen footage and on-screen narration by Cash’s only son\, John Carter Cash\, male and female vocalists will share vocal duties to perform even more Cash hits.  
URL:https://www.marcuscenter.org/event/johnny-cash-the-official-concert-experience/
LOCATION:Uihlein Hall\, 929 N Water St\, Milwaukee\, WI\, 53202\, United States
CATEGORIES:23-24 Build Your Own Series,MPAC Presents
ATTACH;FMTTYPE=image/jpeg:https://www.marcuscenter.org/wp-content/uploads/2023/06/JohnnyCash_featured-image.jpg
END:VEVENT
BEGIN:VEVENT
DTSTART;TZID=America/Chicago:20240229T193000
DTEND;TZID=America/Chicago:20240229T193000
DTSTAMP:20260423T035532
CREATED:20230327T234754Z
LAST-MODIFIED:20240208T184621Z
UID:3691-1709235000-1709235000@www.marcuscenter.org
SUMMARY:Delfeayo Marsalis
DESCRIPTION:& the Uptown Jazz Orchestra\nDelfeayo Marsalis & the Uptown Jazz Orchestra are a highly entertaining ensemble\, focused on maintaining important jazz traditions such as riff playing\, New Orleans polyphony\, and spontaneous arrangements. Formed by Marsalis in 2008\, the Uptown Jazz Orchestra stretches the boundaries of what is expected from big bands\, playing with an extraordinary sense of joy and fun that could only come from New Orleans.  \nFeaturing up to 18 accomplished musicians\, the Uptown Jazz Orchestra sets the global standard for celebrating jazz in its authentic musical form\, inspiring the next generation of jazz musicians and promoting a culture of diversity\, inclusion\, and accessibility in the arts.  \nMarsalis is one of the top trombonists\, composers\, and producers in jazz today. Known for his “technical excellence\, inventive mind and frequent touches of humor” (Los Angeles Times)\, he is “one of the best\, most imaginative and musical of the trombonists of his generation” (San Francisco Examiner). Marsalis has toured internationally with jazz legends such as Ray Charles\, Art Blakey\, Max Roach\, Elvin Jones\, and Slide Hampton\, as well as leading his own groups. 
URL:https://www.marcuscenter.org/event/delfeayo-marsalis/
LOCATION:Uihlein Hall\, 929 N Water St\, Milwaukee\, WI\, 53202\, United States
CATEGORIES:23-24 Build Your Own Series,23-24 Jazz Series,Culture Collective,Group Tickets
ATTACH;FMTTYPE=image/png:https://www.marcuscenter.org/wp-content/uploads/2023/03/DELFM-Featured-Image.png
END:VEVENT
END:VCALENDAR