BEGIN:VCALENDAR
VERSION:2.0
PRODID:-//Marcus Performing Arts Center - ECPv6.15.20//NONSGML v1.0//EN
CALSCALE:GREGORIAN
METHOD:PUBLISH
X-ORIGINAL-URL:https://www.marcuscenter.org
X-WR-CALDESC:Events for Marcus Performing Arts Center
REFRESH-INTERVAL;VALUE=DURATION:PT1H
X-Robots-Tag:noindex
X-PUBLISHED-TTL:PT1H
BEGIN:VTIMEZONE
TZID:America/Chicago
BEGIN:DAYLIGHT
TZOFFSETFROM:-0600
TZOFFSETTO:-0500
TZNAME:CDT
DTSTART:20250309T080000
END:DAYLIGHT
BEGIN:STANDARD
TZOFFSETFROM:-0500
TZOFFSETTO:-0600
TZNAME:CST
DTSTART:20251102T070000
END:STANDARD
BEGIN:DAYLIGHT
TZOFFSETFROM:-0600
TZOFFSETTO:-0500
TZNAME:CDT
DTSTART:20260308T080000
END:DAYLIGHT
BEGIN:STANDARD
TZOFFSETFROM:-0500
TZOFFSETTO:-0600
TZNAME:CST
DTSTART:20261101T070000
END:STANDARD
BEGIN:DAYLIGHT
TZOFFSETFROM:-0600
TZOFFSETTO:-0500
TZNAME:CDT
DTSTART:20270314T080000
END:DAYLIGHT
BEGIN:STANDARD
TZOFFSETFROM:-0500
TZOFFSETTO:-0600
TZNAME:CST
DTSTART:20271107T070000
END:STANDARD
END:VTIMEZONE
BEGIN:VEVENT
DTSTART;TZID=America/Chicago:20260318T193000
DTEND;TZID=America/Chicago:20260318T193000
DTSTAMP:20260425T051813
CREATED:20250307T210249Z
LAST-MODIFIED:20251215T161804Z
UID:6788-1773862200-1773862200@www.marcuscenter.org
SUMMARY:BODYTRAFFIC
DESCRIPTION:BODYTRAFFIC is known for its stunning performers\, diverse technical mastery\, and commitment to dynamic repertoire that captivates both seasoned dance lovers and newcomers alike.   \nLed by Artistic Director Tina Finkelman Berkett\, this Los Angeles-based company has been a powerful force in contemporary dance since its founding in 2007. Celebrated for technical prowess and versatility\, BODYTRAFFIC seamlessly perform a repertoire spanning ballet\, contemporary\, modern\, Afro-Cuban\, and hip hop genres. Rather than being shaped by a single choreographic voice\, the company champions both established and new voices\, creating a home for an eclectic range of styles and perspectives that tell vital stories. Through movement\, BODYTRAFFIC connects individuals across diverse life experiences\, elevating dance beyond an art form into an exploration and celebration of ideas and the human spirit.  \n“BODYTRAFFIC is hailed as one of the fiercest\, cutting-edge contemporary dance companies in the nation.” –Vail Daily  \n“There is no doubt\, BODYTRAFFIC puts its all into each performance with its incredible facility\, cleverness and outstanding performers.” –LA Dance Chronicle  \nThis show is part of the 2025/26 MPAC Presents Dance series. To learn more and subscribe to all three dance shows\, click here.
URL:https://www.marcuscenter.org/event/bodytraffic/
LOCATION:Uihlein Hall\, 929 N Water St\, Milwaukee\, WI\, 53202\, United States
CATEGORIES:25-26 Build Your Own Series,25-26 Dance Series
ATTACH;FMTTYPE=image/jpeg:https://www.marcuscenter.org/wp-content/uploads/2025/03/Untitled-5-6.jpg
END:VEVENT
END:VCALENDAR