BEGIN:VCALENDAR
VERSION:2.0
PRODID:-//Marcus Performing Arts Center - ECPv6.15.20//NONSGML v1.0//EN
CALSCALE:GREGORIAN
METHOD:PUBLISH
X-ORIGINAL-URL:https://www.marcuscenter.org
X-WR-CALDESC:Events for Marcus Performing Arts Center
REFRESH-INTERVAL;VALUE=DURATION:PT1H
X-Robots-Tag:noindex
X-PUBLISHED-TTL:PT1H
BEGIN:VTIMEZONE
TZID:America/Chicago
BEGIN:DAYLIGHT
TZOFFSETFROM:-0600
TZOFFSETTO:-0500
TZNAME:CDT
DTSTART:20220313T080000
END:DAYLIGHT
BEGIN:STANDARD
TZOFFSETFROM:-0500
TZOFFSETTO:-0600
TZNAME:CST
DTSTART:20221106T070000
END:STANDARD
BEGIN:DAYLIGHT
TZOFFSETFROM:-0600
TZOFFSETTO:-0500
TZNAME:CDT
DTSTART:20230312T080000
END:DAYLIGHT
BEGIN:STANDARD
TZOFFSETFROM:-0500
TZOFFSETTO:-0600
TZNAME:CST
DTSTART:20231105T070000
END:STANDARD
BEGIN:DAYLIGHT
TZOFFSETFROM:-0600
TZOFFSETTO:-0500
TZNAME:CDT
DTSTART:20240310T080000
END:DAYLIGHT
BEGIN:STANDARD
TZOFFSETFROM:-0500
TZOFFSETTO:-0600
TZNAME:CST
DTSTART:20241103T070000
END:STANDARD
END:VTIMEZONE
BEGIN:VEVENT
DTSTART;VALUE=DATE:20230322
DTEND;VALUE=DATE:20230327
DTSTAMP:20260421T044558
CREATED:20230301T224841Z
LAST-MODIFIED:20230320T160114Z
UID:2246-1679526000-1679871599@www.marcuscenter.org
SUMMARY:Hunchback of Notre Dame
DESCRIPTION:From Victor Hugo\, author of Les Misérables\, comes this tragic tale of love\, lust\, and betrayal. Journey to 15th-century Paris in this haunting and passionate interpretation. \nThe Story\nThe beautiful dancer and fortune-teller Esmeralda is condemned by Archdeacon Frollo as depraved\, and he plots to have her kidnapped but the dashing Phoebus\, Captain of the Guard\, intervenes. After a tragic turn of fate\, the beleaguered hunchback Quasimodo rescues Esmeralda and provides her with sanctuary in the belfry of Notre Dame Cathedral from the men who seek to wield their power over her. \nThis ballet contains adult themes and is recommended for adults and young people ages 16 and older.  
URL:https://www.marcuscenter.org/event/hunchback-of-notre-dame/
LOCATION:Uihlein Hall\, 929 N Water St\, Milwaukee\, WI\, 53202\, United States
CATEGORIES:Group Tickets,Milwaukee Ballet
ATTACH;FMTTYPE=image/png:https://www.marcuscenter.org/wp-content/uploads/2023/03/Hunchback-Milwaukee-Ballet-Featured-Image.png
END:VEVENT
BEGIN:VEVENT
DTSTART;TZID=America/Chicago:20230318T183000
DTEND;TZID=America/Chicago:20230318T183000
DTSTAMP:20260421T044558
CREATED:20230216T215613Z
LAST-MODIFIED:20230303T175052Z
UID:1939-1679164200-1679164200@www.marcuscenter.org
SUMMARY:One Night of Queen
DESCRIPTION:Performed by Gary Mullen & The Works\nThe look\, the sound\, and the showmanship of rock icon Freddie Mercury and supergroup Queen are illuminated on stage in this spectacular live tribute concert. With a positive nod from legendary guitarist Brian May\, Gary Mullen & The Works are hailed as the world’s premier Queen tribute band. From playing for 40\,000 in London’s Hyde Park to touring the globe\, One Night Of Queen delivers the distinctive passion of one of rock ‘n’ roll’s greatest groups of all time. \nFans of Queen will delight in this note-for-note experience of mega-hits such as “Bohemian Rhapsody\,” “We are the Champions\,” “Killer Queen\,” “You’re My Best Friend\,” “Crazy Little Thing Called Love\,” “Radio GaGa\,” “Under Pressure\,” “Another One Bites the Dust” and many others. \nGary Mullen & The Works (featuring Gary Mullen on vocals\, David Brockett on guitar\, Billy Moffat on Bass\, Malcolm Gentles on keyboards and Jon Halliwell on drums) will have you dancing in the aisles to the timeless classics as Queen comes alive again on stage. One Night Of Queen will ROCK YOU!
URL:https://www.marcuscenter.org/event/one-night-of-queen/
LOCATION:Uihlein Hall\, 929 N Water St\, Milwaukee\, WI\, 53202\, United States
CATEGORIES:Group Tickets
ATTACH;FMTTYPE=image/jpeg:https://www.marcuscenter.org/wp-content/uploads/2023/02/ONOQCB-Featured-Image.jpg
END:VEVENT
BEGIN:VEVENT
DTSTART;VALUE=DATE:20230306
DTEND;VALUE=DATE:20230313
DTSTAMP:20260421T044558
CREATED:20230214T231208Z
LAST-MODIFIED:20230320T160307Z
UID:1908-1678143600-1678661999@www.marcuscenter.org
SUMMARY:SIX
DESCRIPTION:From Tudor Queens to Pop Icons\, the SIX wives of Henry VIII take the microphone to remix five hundred years of historical heartbreak into a Euphoric Celebration of 21st century girl power! This new original musical is the global sensation that everyone is losing their head over! \nSIX has won 23 awards in the 2021/2022 Broadway season\, including the Tony Award® for Best Original Score (Music and Lyrics) and the Outer Critics Circle Award for Best Musical. \nThe New York Times says SIX “TOTALLY RULES!” (Critic’s Pick) and The Washington Post hails SIX as “Exactly the kind of energizing\, inspirational illumination this town aches for!” \nThe SIX: LIVE ON OPENING NIGHT Broadway album debuted at Number 1 on the Billboard cast album charts and surpassed 6 Million streams in its first month.
URL:https://www.marcuscenter.org/event/six/
LOCATION:Uihlein Hall\, 929 N Water St\, Milwaukee\, WI\, 53202\, United States
CATEGORIES:Group Tickets
ATTACH;FMTTYPE=image/jpeg:https://www.marcuscenter.org/wp-content/uploads/2023/02/12.-SIX-1.jpg
END:VEVENT
END:VCALENDAR