BEGIN:VCALENDAR
VERSION:2.0
PRODID:-//Marcus Performing Arts Center - ECPv6.15.20//NONSGML v1.0//EN
CALSCALE:GREGORIAN
METHOD:PUBLISH
X-ORIGINAL-URL:https://www.marcuscenter.org
X-WR-CALDESC:Events for Marcus Performing Arts Center
REFRESH-INTERVAL;VALUE=DURATION:PT1H
X-Robots-Tag:noindex
X-PUBLISHED-TTL:PT1H
BEGIN:VTIMEZONE
TZID:America/Chicago
BEGIN:DAYLIGHT
TZOFFSETFROM:-0600
TZOFFSETTO:-0500
TZNAME:CDT
DTSTART:20220313T080000
END:DAYLIGHT
BEGIN:STANDARD
TZOFFSETFROM:-0500
TZOFFSETTO:-0600
TZNAME:CST
DTSTART:20221106T070000
END:STANDARD
BEGIN:DAYLIGHT
TZOFFSETFROM:-0600
TZOFFSETTO:-0500
TZNAME:CDT
DTSTART:20230312T080000
END:DAYLIGHT
BEGIN:STANDARD
TZOFFSETFROM:-0500
TZOFFSETTO:-0600
TZNAME:CST
DTSTART:20231105T070000
END:STANDARD
BEGIN:DAYLIGHT
TZOFFSETFROM:-0600
TZOFFSETTO:-0500
TZNAME:CDT
DTSTART:20240310T080000
END:DAYLIGHT
BEGIN:STANDARD
TZOFFSETFROM:-0500
TZOFFSETTO:-0600
TZNAME:CST
DTSTART:20241103T070000
END:STANDARD
BEGIN:DAYLIGHT
TZOFFSETFROM:-0600
TZOFFSETTO:-0500
TZNAME:CDT
DTSTART:20250309T080000
END:DAYLIGHT
BEGIN:STANDARD
TZOFFSETFROM:-0500
TZOFFSETTO:-0600
TZNAME:CST
DTSTART:20251102T070000
END:STANDARD
BEGIN:DAYLIGHT
TZOFFSETFROM:-0600
TZOFFSETTO:-0500
TZNAME:CDT
DTSTART:20260308T080000
END:DAYLIGHT
BEGIN:STANDARD
TZOFFSETFROM:-0500
TZOFFSETTO:-0600
TZNAME:CST
DTSTART:20261101T070000
END:STANDARD
END:VTIMEZONE
BEGIN:VEVENT
DTSTART;TZID=America/Chicago:20250125T193000
DTEND;TZID=America/Chicago:20250125T193000
DTSTAMP:20260421T044846
CREATED:20241111T201743Z
LAST-MODIFIED:20250102T201922Z
UID:1970-1737833400-1737833400@www.marcuscenter.org
SUMMARY:The Simon & Garfunkel Story
DESCRIPTION:The Simon & Garfunkel Story is back on tour\, bringing the legendary music of Paul Simon and Art Garfunkel to life in a spectacular concert-style theater show. Featuring a full live band\, this immersive performance showcases all the hits you know and love\, including “Mrs. Robinson\,” “Cecilia\,” “Bridge Over Troubled Water\,” “Homeward Bound\,” and more. \nUsing stunning projection photos and original film footage\, The Simon & Garfunkel Story chronicles the amazing journey shared by the folk-rock duo. From their humble beginnings as Tom & Jerry to their rise as one of the best-selling music groups of the ‘60s\, their dramatic split in 1970\, and their unforgettable reunion for “The Concert in Central Park” in 1981\, this show captures the essence of their musical legacy. \nWith more than 100 million album sales\, Simon & Garfunkel’s perfect harmonies and songs that poignantly captured the times made them one of the most successful folk-rock duos of all time. Over the years\, they earned 10 Grammy Awards and were inducted into the Rock and Roll Hall of Fame in 1990. In 2003\, Simon and Garfunkel were awarded a Grammy Lifetime Achievement Award and the following year saw their “The Sound of Silence” awarded a Grammy Hall of Fame Award. Don’t miss this extraordinary tribute to one of the greatest folk-rock duos of all time! \n\n‘‘Fantastic’’ – Elaine Paige\, BBC Radio \n“Authentic and Exciting” – The Stage \n  \nThis event is presented by an independent organization separate from the Marcus Performing Arts Center.
URL:https://www.marcuscenter.org/event/the-simon-garfunkel-story/
LOCATION:Uihlein Hall\, 929 N Water St\, Milwaukee\, WI\, 53202\, United States
CATEGORIES:Group Tickets,Outside Presenter
ATTACH;FMTTYPE=image/jpeg:https://www.marcuscenter.org/wp-content/uploads/2024/11/Simon-Garfunkel_featured.jpg
END:VEVENT
BEGIN:VEVENT
DTSTART;TZID=America/Chicago:20240504T193000
DTEND;TZID=America/Chicago:20240504T193000
DTSTAMP:20260421T044846
CREATED:20230227T232638Z
LAST-MODIFIED:20240103T162954Z
UID:2140-1714851000-1714851000@www.marcuscenter.org
SUMMARY:One-Man Star Wars® Trilogy
DESCRIPTION:Canadian actor and uber geek Charles Ross brings his solo madcap creation\, One-Man Star Wars® Trilogy\, to the stage in this mind-bending whirlwind of a show. The result of Charles Ross’ ‘misspent’ youth is the creation of his hilarious One-Man Star Wars® Trilogy show\, where Ross single-handedly plays all the characters with spot-on voice impressions\, sings the music\, flies the ships\, and fights the battles in one hilarious production. \nOfficially endorsed by Lucasfilm\, Ross retells the classic trilogy in 60 minutes – no costumes\, no props\, no sets – all the characters\, the music\, the ships\, and the battles. The Force is strong with this one. 
URL:https://www.marcuscenter.org/event/one-man-star-wars-trilogy/
LOCATION:Wilson Theater at Vogel Hall\, 121 E State St\, Milwaukee\, WI\, 53202\, United States
CATEGORIES:23-24 Build Your Own Series,Group Tickets
ATTACH;FMTTYPE=image/jpeg:https://www.marcuscenter.org/wp-content/uploads/2023/02/One-Man-Star-Wars-Featured-Image.jpg
END:VEVENT
BEGIN:VEVENT
DTSTART;TZID=America/Chicago:20240307T190000
DTEND;TZID=America/Chicago:20240307T190000
DTSTAMP:20260421T044846
CREATED:20230530T130016Z
LAST-MODIFIED:20240304T152223Z
UID:3980-1709838000-1709838000@www.marcuscenter.org
SUMMARY:Cirque Mechanics: Zephyr
DESCRIPTION:Experience this breathtaking theatrical circus show that harnesses human power to generate an energetic acrobatic performance. Zephyr – A Whirlwind of Circus by Cirque Mechanics is an emotive and exhilarating tale about human ingenuity and our natural resources. \nWith their thoughtfully engineered blend of artful storytelling\, high-level acrobatics\, and fanciful contraptions\, Cirque Mechanics defies categorization. \nIn Zephyr\, they celebrate the wind power that humans have harnessed for thousands of years and the machines we’ve used to do it. A giant windmill mounted on a turntable harnesses the power and energy of people rather than the wind as performers fly\, balance\, float on air\, and defy gravity in this whirlwind circus performance. \nThis is high-flying\, eye-popping\, heart-stopping amazement geared to blow away audiences of all ages.
URL:https://www.marcuscenter.org/event/cirque-mechanics-zephyr/
LOCATION:Uihlein Hall\, 929 N Water St\, Milwaukee\, WI\, 53202\, United States
CATEGORIES:23-24 Build Your Own Series,Group Tickets
ATTACH;FMTTYPE=image/jpeg:https://www.marcuscenter.org/wp-content/uploads/2023/05/Cirque-Mechanics-Featured-Photo.jpg
END:VEVENT
BEGIN:VEVENT
DTSTART;TZID=America/Chicago:20240229T193000
DTEND;TZID=America/Chicago:20240229T193000
DTSTAMP:20260421T044846
CREATED:20230327T234754Z
LAST-MODIFIED:20240208T184621Z
UID:3691-1709235000-1709235000@www.marcuscenter.org
SUMMARY:Delfeayo Marsalis
DESCRIPTION:& the Uptown Jazz Orchestra\nDelfeayo Marsalis & the Uptown Jazz Orchestra are a highly entertaining ensemble\, focused on maintaining important jazz traditions such as riff playing\, New Orleans polyphony\, and spontaneous arrangements. Formed by Marsalis in 2008\, the Uptown Jazz Orchestra stretches the boundaries of what is expected from big bands\, playing with an extraordinary sense of joy and fun that could only come from New Orleans.  \nFeaturing up to 18 accomplished musicians\, the Uptown Jazz Orchestra sets the global standard for celebrating jazz in its authentic musical form\, inspiring the next generation of jazz musicians and promoting a culture of diversity\, inclusion\, and accessibility in the arts.  \nMarsalis is one of the top trombonists\, composers\, and producers in jazz today. Known for his “technical excellence\, inventive mind and frequent touches of humor” (Los Angeles Times)\, he is “one of the best\, most imaginative and musical of the trombonists of his generation” (San Francisco Examiner). Marsalis has toured internationally with jazz legends such as Ray Charles\, Art Blakey\, Max Roach\, Elvin Jones\, and Slide Hampton\, as well as leading his own groups. 
URL:https://www.marcuscenter.org/event/delfeayo-marsalis/
LOCATION:Uihlein Hall\, 929 N Water St\, Milwaukee\, WI\, 53202\, United States
CATEGORIES:23-24 Build Your Own Series,23-24 Jazz Series,Culture Collective,Group Tickets
ATTACH;FMTTYPE=image/png:https://www.marcuscenter.org/wp-content/uploads/2023/03/DELFM-Featured-Image.png
END:VEVENT
BEGIN:VEVENT
DTSTART;TZID=America/Chicago:20240127T193000
DTEND;TZID=America/Chicago:20240127T193000
DTSTAMP:20260421T044846
CREATED:20230327T234719Z
LAST-MODIFIED:20240112T233049Z
UID:3684-1706383800-1706383800@www.marcuscenter.org
SUMMARY:Cécile McLorin Salvant
DESCRIPTION:Acclaimed jazz vocalist Cécile McLorin Salvant is a composer\, singer\, and visual artist. Three-time GRAMMY® winner for “Best Jazz Vocal Album\,” Salvant has a deep passion for storytelling and finding the connections between music spanning genres and decades. An eclectic curator\, Salvant unearths rarely recorded songs with strong narratives\, interesting power dynamics\, unexpected twists\, and humor.  \nDescribed by the late Jessye Norman as a “unique voice supported by an intelligence and full-fledged musicality\, which light up every note she sings\,” Salvant is a must-see artist. In 2020 she received the MacArthur Fellowship and the Doris Duke Artist Award\, two of the most coveted recognitions in art. 
URL:https://www.marcuscenter.org/event/cecile-mclorin-salvant/
LOCATION:Uihlein Hall\, 929 N Water St\, Milwaukee\, WI\, 53202\, United States
CATEGORIES:23-24 Build Your Own Series,23-24 Jazz Series,Culture Collective,Group Tickets
ATTACH;FMTTYPE=image/png:https://www.marcuscenter.org/wp-content/uploads/2023/03/CECILE-Featured-Image.png
END:VEVENT
BEGIN:VEVENT
DTSTART;VALUE=DATE:20230606
DTEND;VALUE=DATE:20230612
DTSTAMP:20260421T044846
CREATED:20230227T235727Z
LAST-MODIFIED:20230531T195457Z
UID:2152-1686009600-1686527999@www.marcuscenter.org
SUMMARY:Tootsie
DESCRIPTION:Call it “musical comedy heaven” (Rolling Stone). Call it “the most uproarious new musical in years!” (The Hollywood Reporter). Call it TOOTSIE! This laugh-out-loud love letter to the theater tells the story of Michael Dorsey\, a talented but difficult actor who struggles to find work until one show-stopping act of desperation lands him the role of a lifetime. \nFeaturing a hilarious Tony®-winning book by Robert Horn and an outrageously clever score by 2018 Tony-winner David Yazbek (The Band’s Visit\, Dirty Rotten Scoundrels)\, this New York Times Critic’s Pick is “a joyful delight” (The Washington Post) that’s “so packed with punchlines\, it should be called a jokebox musical!” (Bloomberg). “In these turbulent times\, when the world seems out of balance\, we need a place to let the good times roll\,” raves Rolling Stone. “TOOTSIE is it!” \n*Contains adult language and situations. \n  \n“Huge laughs! Smart\, sparkling and priceless\, Tootsie soars.”\n– Jesse Green\, The New York Times\, NYT Critic’s Pick \n“A madly entertaining riot! The kind of big Broadway musical that gives audiences what they came for.”\n– David Rooney\, The Hollywood Reporter \n  \nBonus Content:\nConsider getting tickets for the show on Thursday\, June 8 to participate in a post-show talk back with some of the cast.
URL:https://www.marcuscenter.org/event/tootsie/
LOCATION:Uihlein Hall\, 929 N Water St\, Milwaukee\, WI\, 53202\, United States
CATEGORIES:Group Tickets
END:VEVENT
BEGIN:VEVENT
DTSTART;VALUE=DATE:20230502
DTEND;VALUE=DATE:20230508
DTSTAMP:20260421T044846
CREATED:20230227T225828Z
LAST-MODIFIED:20250318T205020Z
UID:2131-1682985600-1683503999@www.marcuscenter.org
SUMMARY:Hadestown
DESCRIPTION:COME SEE HOW THE WORLD COULD BE. \nWelcome to HADESTOWN\, where a song can change your fate. Winner of eight 2019 Tony Awards® including Best Musical and the 2020 Grammy® Award for Best Musical Theater Album\, this acclaimed new show from celebrated singer-songwriter Anaïs Mitchell and innovative director Rachel Chavkin (Natasha\, Pierre & The Great Comet of 1812) is a love story for today… and always. \nIntertwining two mythic tales — that of young dreamers Orpheus and Eurydice\, and that of King Hades and his wife Persephone — HADESTOWN is a haunting and hopeful theatrical experience that grabs you and never lets go. \n  \n“Sumptuous. Gorgeous. As good as it gets.”\n– Jesse Green\, The New York Times\, NYT Critic’s Pick   \n“An affirmation of art’s transformative power.”\n– Will Hermes\, Rolling Stone  \n“Simply one of the most exquisite works of musical storytelling I’ve seen in my more than 25 years as a theater critic.”\n– Charles McNulty\, Los Angeles Times  \n 
URL:https://www.marcuscenter.org/event/hadestown2023/
LOCATION:Uihlein Hall\, 929 N Water St\, Milwaukee\, WI\, 53202\, United States
CATEGORIES:Group Tickets
ATTACH;FMTTYPE=image/jpeg:https://www.marcuscenter.org/wp-content/uploads/2023/02/HDT-Featured-Image.jpeg
END:VEVENT
BEGIN:VEVENT
DTSTART;TZID=America/Chicago:20230429T193000
DTEND;TZID=America/Chicago:20230429T193000
DTSTAMP:20260421T044846
CREATED:20230227T223856Z
LAST-MODIFIED:20230417T165654Z
UID:2109-1682796600-1682796600@www.marcuscenter.org
SUMMARY:The American ELO Presents “The Electric Light Orchestra Experience”
DESCRIPTION:EVIL WOMAN – The American ELO performs a multimedia concert celebration of the music ELO. Widely recognized as the world’s premier tribute to ELO\, they are known for their brilliant arrangements\, flawless musicianship\, and superlative vocals. Expanding on the concept of great melodies\, epic song structures\, and grand orchestrations where cellos coexisted with guitars and where classically tinged rock intersects with pop\, ELO became one of the most popular groups of the 1970s and perhaps even more so today. “Mr. Blue Sky\,” “Roll Over Beethoven\,” “Evil Woman\,” and “Xanadu” are among a list of over 20 instantly recognizable chart-topping hit songs.
URL:https://www.marcuscenter.org/event/the-american-elo-presents-the-electric-light-orchestra-experience/
LOCATION:Uihlein Hall\, 929 N Water St\, Milwaukee\, WI\, 53202\, United States
CATEGORIES:Group Tickets
ATTACH;FMTTYPE=image/jpeg:https://www.marcuscenter.org/wp-content/uploads/2023/02/ELOEXP-Featured-Image.jpg
END:VEVENT
BEGIN:VEVENT
DTSTART;TZID=America/Chicago:20230428T193000
DTEND;TZID=America/Chicago:20230428T193000
DTSTAMP:20260421T044846
CREATED:20230223T192419Z
LAST-MODIFIED:20230425T162957Z
UID:2098-1682710200-1682710200@www.marcuscenter.org
SUMMARY:Nrityagram
DESCRIPTION:With Chitrasena Dance Company\n“Nrityagram’s mastery of movement and spiritual depth are profound. Excuse my insistence\, but if you love dance\, you must see this company in action.” \n– Mikhail Baryshnikov \nThe Nrityagram Dance Ensemble is regarded as one of the foremost dance companies of India. Led by Artistic Director Surupa Sen\, the company is devoted to Odissi – one of the oldest dance styles in the world. Their traditional practice is infused with a bright\, contemporary spirit\, which has captured the imagination of people worldwide. \nThe rare opportunity to see them perform live is an exploration of culture\, technique\, storytelling\, and devotion that is not to be missed. \nNrityagram (pronounced NRI-thyuh-graam)\, meaning “dance village\,” is located outside Bangalore\, India. More than a dance company\, Nrityagram was founded by Odissi dancer Protima Gauri as a school devoted to Indian dance. Nrityagram home to a school inspired by the Gurukula\, an ancient teaching paradigm\, and the dance ensemble – a village of artists dedicated to the practice and nurture of a 2000-year-old art form. \nThe all-female ensemble’s daily life of intensive training and meditation brings to the stage compelling\, captivating performances that are expressive and lyrical. Although steeped in and dedicated to ancient practice\, the Ensemble is also committed to carrying Indian dance into the twenty-first century. The ensemble not only explores creative expansions of tradition but are also able to commission fresh compositions from leading Indian classical musicians. \nBonus Content: \n– Stick around after the performance for a post-show talkback with the ensemble
URL:https://www.marcuscenter.org/event/nrityagram/
LOCATION:Uihlein Hall\, 929 N Water St\, Milwaukee\, WI\, 53202\, United States
CATEGORIES:Group Tickets
ATTACH;FMTTYPE=image/jpeg:https://www.marcuscenter.org/wp-content/uploads/2023/02/NRITYA-Featured-Image.jpg
END:VEVENT
BEGIN:VEVENT
DTSTART;TZID=America/Chicago:20230420T193000
DTEND;TZID=America/Chicago:20230420T193000
DTSTAMP:20260421T044846
CREATED:20230223T004151Z
LAST-MODIFIED:20230417T165240Z
UID:2084-1682019000-1682019000@www.marcuscenter.org
SUMMARY:Kandace Springs
DESCRIPTION:Kandace Springs is an accomplished artist whose soulful jazz singing led her late mentor Prince to praise her “voice that can melt snow.” Called “a vocal force to be reckoned with” (Okayplayer) and dubbed a “versatile and vital artist” (Afropunk)\, Kandace touches on soul and pop while channeling her jazz influences and Nashville upbringing. Putting her own rich and complex spin on classics\, her intensely expressive mastery over the piano is remarkable. \nHer newest album\, Songs For My Father\, is a tribute to her late father\, legendary Nashville soul singer Scat Spring. With a release set for late Spring 2023\, this is the first album of hers to feature almost all original songs\, written by Kandace both solo and with stellar collaborators\, such as Gregg Wells (Adele)\, Matt Hales (Liane La Havas)\, and her long-time partners Evan Rogers and Carl Sturken (Rihanna). \nBacked by her ace all-female rhythm section\, and joined by a stellar group of guest artists\, including Elena Pinderhughes and Karriem Riggins\, Kandace delivers her most heartfelt and personal record yet. The songs range from an early gem\, “Look\,” that Kandace actually wrote with her father\, to the album’s feature track\, “Run Your Race\,” written in late 2022\, which is a touching tribute to her college track star dad’s journey through life. A couple of classic standards\, “Wild Is The Wind” (made famous by Nina Simone) and “What a Wonderful World\,” make their appearance as well\, as they were songs that Scat introduced to his daughter in her formative years. \nKandace’s previous album\, The Women Who Raised Me (2020)\, garnered 5-star reviews from publications ranging from DownBeat to The New Yorker\, as well as winning the Deutscher JazzPreis for Best Vocal Album of the Year.
URL:https://www.marcuscenter.org/event/kandace-springs/
LOCATION:Wilson Theater at Vogel Hall\, 121 E State St\, Milwaukee\, WI\, 53202\, United States
CATEGORIES:Group Tickets
ATTACH;FMTTYPE=image/png:https://www.marcuscenter.org/wp-content/uploads/2023/02/KSPRINGS-Feautured-Image.png
END:VEVENT
BEGIN:VEVENT
DTSTART;VALUE=DATE:20230413
DTEND;VALUE=DATE:20230417
DTSTAMP:20260421T044846
CREATED:20230217T214548Z
LAST-MODIFIED:20230406T212732Z
UID:1993-1681344000-1681689599@www.marcuscenter.org
SUMMARY:Dixie's Tupperware Party
DESCRIPTION:Dixie Longate is the fast-talking\, gum chewing\, ginger-haired Alabama gal who is bringing your grandma’s Tupperware party into the 21st century. Audiences howl with laughter as Dixie demonstrates the many alternative uses for the iconic plastic kitchen staple. Filled with outrageously funny tales\, heartfelt accounts\, audience participation and a little bit of empowerment and homespun wisdom\, Dixie’s Tupperware Party leaves your heart a little bigger and your food a little fresher. \nBiography: \nDixie Longate hails from Mobile\, Alabama where she lives with her three kids: Wynona\, Dwayne and Absorbine\, Jr. She started selling Tupperware as part of the conditions of her parole back in 2001. Within a few years\, she became the top-selling Tupperware representative in the US. When a friend of hers told her she should turn her living room party into a theatrical show\, she laughed so hard at the idea\, she almost had to put down her drink.\n‍\nDixie’s Tupperware Party soon opened off-Broadway in 2007 to both raving fans and great reviews. The show earned Dixie a Drama Desk Award Nomination for Outstanding Solo Performance. She lost to Laurence Fishburne. Really. Look it up. \nThe following year\, with plastic bowls in hand\, she embarked on a small tour to some theaters in the US.  Twelve years later\, that tour was still running and had become one of the longest-running off-broadway tours in American theater history.
URL:https://www.marcuscenter.org/event/dixies-tupperware-party/
LOCATION:Wilson Theater at Vogel Hall\, 121 E State St\, Milwaukee\, WI\, 53202\, United States
CATEGORIES:Group Tickets
ATTACH;FMTTYPE=image/png:https://www.marcuscenter.org/wp-content/uploads/2023/02/18.-Dixie-Tupperware-Party.png
END:VEVENT
BEGIN:VEVENT
DTSTART;VALUE=DATE:20230406
DTEND;VALUE=DATE:20230417
DTSTAMP:20260421T044846
CREATED:20230213T230505Z
LAST-MODIFIED:20230406T013456Z
UID:1882-1680739200-1681689599@www.marcuscenter.org
SUMMARY:Disney's Frozen
DESCRIPTION:From the producer of The Lion King and Aladdin\, Frozen\, the Tony®-nominated Best Musical\, is now on tour across North America\, and the critics rave\, “It’s simply magical!” (LA Daily News). \nFrozen features the songs you love from the original Oscar®-winning film\, plus an expanded score with a dozen new numbers. An unforgettable theatrical experience filled with sensational special effects\, stunning sets and costumes\, and powerhouse performances\, Frozen is everything you want in a musical: It’s moving. It’s spectacular. And above all\, it’s pure Broadway joy. \nReviews\n“Joyous and triumphant! Wonderful! A really magical experience.”\n– WABC-TV \n\n“It will give you chills! Amazing special effects\, eye-popping costumes and incredible performances.”\n– Newsday
URL:https://www.marcuscenter.org/event/frozen/
LOCATION:Uihlein Hall\, 929 N Water St\, Milwaukee\, WI\, 53202\, United States
CATEGORIES:Group Tickets
ATTACH;FMTTYPE=image/jpeg:https://www.marcuscenter.org/wp-content/uploads/2023/02/16.-Frozen.jpg
END:VEVENT
BEGIN:VEVENT
DTSTART;VALUE=DATE:20230322
DTEND;VALUE=DATE:20230327
DTSTAMP:20260421T044846
CREATED:20230301T224841Z
LAST-MODIFIED:20230320T160114Z
UID:2246-1679526000-1679871599@www.marcuscenter.org
SUMMARY:Hunchback of Notre Dame
DESCRIPTION:From Victor Hugo\, author of Les Misérables\, comes this tragic tale of love\, lust\, and betrayal. Journey to 15th-century Paris in this haunting and passionate interpretation. \nThe Story\nThe beautiful dancer and fortune-teller Esmeralda is condemned by Archdeacon Frollo as depraved\, and he plots to have her kidnapped but the dashing Phoebus\, Captain of the Guard\, intervenes. After a tragic turn of fate\, the beleaguered hunchback Quasimodo rescues Esmeralda and provides her with sanctuary in the belfry of Notre Dame Cathedral from the men who seek to wield their power over her. \nThis ballet contains adult themes and is recommended for adults and young people ages 16 and older.  
URL:https://www.marcuscenter.org/event/hunchback-of-notre-dame/
LOCATION:Uihlein Hall\, 929 N Water St\, Milwaukee\, WI\, 53202\, United States
CATEGORIES:Group Tickets,Milwaukee Ballet
ATTACH;FMTTYPE=image/png:https://www.marcuscenter.org/wp-content/uploads/2023/03/Hunchback-Milwaukee-Ballet-Featured-Image.png
END:VEVENT
BEGIN:VEVENT
DTSTART;TZID=America/Chicago:20230318T183000
DTEND;TZID=America/Chicago:20230318T183000
DTSTAMP:20260421T044846
CREATED:20230216T215613Z
LAST-MODIFIED:20230303T175052Z
UID:1939-1679164200-1679164200@www.marcuscenter.org
SUMMARY:One Night of Queen
DESCRIPTION:Performed by Gary Mullen & The Works\nThe look\, the sound\, and the showmanship of rock icon Freddie Mercury and supergroup Queen are illuminated on stage in this spectacular live tribute concert. With a positive nod from legendary guitarist Brian May\, Gary Mullen & The Works are hailed as the world’s premier Queen tribute band. From playing for 40\,000 in London’s Hyde Park to touring the globe\, One Night Of Queen delivers the distinctive passion of one of rock ‘n’ roll’s greatest groups of all time. \nFans of Queen will delight in this note-for-note experience of mega-hits such as “Bohemian Rhapsody\,” “We are the Champions\,” “Killer Queen\,” “You’re My Best Friend\,” “Crazy Little Thing Called Love\,” “Radio GaGa\,” “Under Pressure\,” “Another One Bites the Dust” and many others. \nGary Mullen & The Works (featuring Gary Mullen on vocals\, David Brockett on guitar\, Billy Moffat on Bass\, Malcolm Gentles on keyboards and Jon Halliwell on drums) will have you dancing in the aisles to the timeless classics as Queen comes alive again on stage. One Night Of Queen will ROCK YOU!
URL:https://www.marcuscenter.org/event/one-night-of-queen/
LOCATION:Uihlein Hall\, 929 N Water St\, Milwaukee\, WI\, 53202\, United States
CATEGORIES:Group Tickets
ATTACH;FMTTYPE=image/jpeg:https://www.marcuscenter.org/wp-content/uploads/2023/02/ONOQCB-Featured-Image.jpg
END:VEVENT
BEGIN:VEVENT
DTSTART;VALUE=DATE:20230306
DTEND;VALUE=DATE:20230313
DTSTAMP:20260421T044846
CREATED:20230214T231208Z
LAST-MODIFIED:20230320T160307Z
UID:1908-1678143600-1678661999@www.marcuscenter.org
SUMMARY:SIX
DESCRIPTION:From Tudor Queens to Pop Icons\, the SIX wives of Henry VIII take the microphone to remix five hundred years of historical heartbreak into a Euphoric Celebration of 21st century girl power! This new original musical is the global sensation that everyone is losing their head over! \nSIX has won 23 awards in the 2021/2022 Broadway season\, including the Tony Award® for Best Original Score (Music and Lyrics) and the Outer Critics Circle Award for Best Musical. \nThe New York Times says SIX “TOTALLY RULES!” (Critic’s Pick) and The Washington Post hails SIX as “Exactly the kind of energizing\, inspirational illumination this town aches for!” \nThe SIX: LIVE ON OPENING NIGHT Broadway album debuted at Number 1 on the Billboard cast album charts and surpassed 6 Million streams in its first month.
URL:https://www.marcuscenter.org/event/six/
LOCATION:Uihlein Hall\, 929 N Water St\, Milwaukee\, WI\, 53202\, United States
CATEGORIES:Group Tickets
ATTACH;FMTTYPE=image/jpeg:https://www.marcuscenter.org/wp-content/uploads/2023/02/12.-SIX-1.jpg
END:VEVENT
END:VCALENDAR