BEGIN:VCALENDAR
VERSION:2.0
PRODID:-//Marcus Performing Arts Center - ECPv6.15.20//NONSGML v1.0//EN
CALSCALE:GREGORIAN
METHOD:PUBLISH
X-WR-CALNAME:Marcus Performing Arts Center
X-ORIGINAL-URL:https://www.marcuscenter.org
X-WR-CALDESC:Events for Marcus Performing Arts Center
REFRESH-INTERVAL;VALUE=DURATION:PT1H
X-Robots-Tag:noindex
X-PUBLISHED-TTL:PT1H
BEGIN:VTIMEZONE
TZID:America/Chicago
BEGIN:DAYLIGHT
TZOFFSETFROM:-0600
TZOFFSETTO:-0500
TZNAME:CDT
DTSTART:20240310T080000
END:DAYLIGHT
BEGIN:STANDARD
TZOFFSETFROM:-0500
TZOFFSETTO:-0600
TZNAME:CST
DTSTART:20241103T070000
END:STANDARD
BEGIN:DAYLIGHT
TZOFFSETFROM:-0600
TZOFFSETTO:-0500
TZNAME:CDT
DTSTART:20250309T080000
END:DAYLIGHT
BEGIN:STANDARD
TZOFFSETFROM:-0500
TZOFFSETTO:-0600
TZNAME:CST
DTSTART:20251102T070000
END:STANDARD
BEGIN:DAYLIGHT
TZOFFSETFROM:-0600
TZOFFSETTO:-0500
TZNAME:CDT
DTSTART:20260308T080000
END:DAYLIGHT
BEGIN:STANDARD
TZOFFSETFROM:-0500
TZOFFSETTO:-0600
TZNAME:CST
DTSTART:20261101T070000
END:STANDARD
BEGIN:DAYLIGHT
TZOFFSETFROM:-0600
TZOFFSETTO:-0500
TZNAME:CDT
DTSTART:20270314T080000
END:DAYLIGHT
BEGIN:STANDARD
TZOFFSETFROM:-0500
TZOFFSETTO:-0600
TZNAME:CST
DTSTART:20271107T070000
END:STANDARD
END:VTIMEZONE
BEGIN:VEVENT
DTSTART;TZID=America/Chicago:20250411T193000
DTEND;TZID=America/Chicago:20250411T193000
DTSTAMP:20260423T055327
CREATED:20240312T183143Z
LAST-MODIFIED:20250311T201222Z
UID:5325-1744399800-1744399800@www.marcuscenter.org
SUMMARY:Lakecia Benjamin
DESCRIPTION:With her deep jazz roots\, electric presence\, and fiery sax work\, Lakecia Benjamin fuses traditional concepts of jazz\, hip hop\, and soul to create a fresh new sound. A dynamic young performer\, Benjamin has shared stages with many legendary artists\, including Stevie Wonder\, Alicia Keys\, Christian McBride\, Gregory Porter\, and The Roots and was voted “Rising Star Alto Saxophonist” in the 2020 Downbeat Critics Poll and “Up and Coming Artist of the Year” by the Jazz Journalists Association.  \nFor her MPAC debut\, Benjamin features the quartet from her 2023 release\, Phoenix\, an album that featured cameos by some of Benjamin’s heroes including Wayne Shorter\, Angela Davis\, Dianne Reeves\, and Patrice Rushen. \n“Lakecia Benjamin plays jazz that is sprinkled with the rich flavors of funk and soul—she’s a crafty traditionalist who remains in step with the rhythms of the young generation.” — The New Yorker \n“This is musical storytelling at its finest.” — Downbeat \n  \nThis show is part of the 2024/25 MPAC Presents Jazz series.
URL:https://www.marcuscenter.org/event/lakecia-benjamin/
LOCATION:Wilson Theater at Vogel Hall\, 121 E State St\, Milwaukee\, WI\, 53202\, United States
CATEGORIES:24-25 Build Your Own Series,24-25 Jazz Series,Culture Collective
ATTACH;FMTTYPE=image/jpeg:https://www.marcuscenter.org/wp-content/uploads/2024/03/Lakecia-Benjamin-Featured-Image.jpg
END:VEVENT
BEGIN:VEVENT
DTSTART;TZID=America/Chicago:20250419T193000
DTEND;TZID=America/Chicago:20250419T193000
DTSTAMP:20260423T055327
CREATED:20240624T140522Z
LAST-MODIFIED:20240813T161234Z
UID:5847-1745091000-1745091000@www.marcuscenter.org
SUMMARY:The Cher Show
DESCRIPTION:Superstars come and go. Cher is forever. For six straight decades\, only one unstoppable force has flat-out dominated popular culture – breaking down barriers\, pushing boundaries and letting nothing and no one stand in her way. THE CHER SHOW is the Tony Award®-winning musical of her story\, and it’s packed with so much Cher that it takes three women to play her: the bright-eyed kid starting out\, the glam pop star\, and the icon. \n\n\nTHE CHER SHOW is 35 smash hits\, six decades of stardom\, two rock-star husbands\, a Grammy®\, an Oscar®\, an Emmy®\, and enough Tony Award-winning Bob Mackie gowns to cause a sequin shortage in New York City\, all in one unabashedly fabulous new musical that will have audiences dancing in the aisles!
URL:https://www.marcuscenter.org/event/the-cher-show/
LOCATION:Uihlein Hall\, 929 N Water St\, Milwaukee\, WI\, 53202\, United States
CATEGORIES:24-25 Build Your Own Series
ATTACH;FMTTYPE=image/png:https://www.marcuscenter.org/wp-content/uploads/2024/06/Cher-Show-Featured-Image.png
END:VEVENT
BEGIN:VEVENT
DTSTART;TZID=America/Chicago:20260205T193000
DTEND;TZID=America/Chicago:20260205T193000
DTSTAMP:20260423T055327
CREATED:20250916T155310Z
LAST-MODIFIED:20260127T202959Z
UID:7771-1770319800-1770319800@www.marcuscenter.org
SUMMARY:DRUMLine Live
DESCRIPTION:DRUMLine Live embodies the soulful\, high-stepping style of the Historically Black College and University (HBCU) marching band tradition. With riveting rhythms\, bold beats\, and ear-grabbing energy\, this stage show is a synchronized musical showcase of the HBCU experience.  \nIncorporating original compositions and soul-infused interpretations of top 40 hits\, group performances range from colorful\, choreographed routines to heavy doses of drum riffs and cadences.  \nDRUMLine Live is a show-stopping performance that will bring you to your feet by halftime!  \nSee the band that performed with Beyoncé in her headlining performance at Coachella!  \n“DRUMLine Live dazzles with explosive choreography and thrilling spectacle.” – ShowbizChicago  \n“DRUMLine Live has made its way across the country\, showing the thrill\, the musical genius\, and the true flavor of the ever-exciting HBCU halftime show.” – The Star-Ledger 
URL:https://www.marcuscenter.org/event/drumline-live-2/
LOCATION:Uihlein Hall\, 929 N Water St\, Milwaukee\, WI\, 53202\, United States
CATEGORIES:24-25 Build Your Own Series,25-26 Build Your Own Series,Build Your Own Series,Culture Collective,MPAC Presents
ATTACH;FMTTYPE=image/jpeg:https://www.marcuscenter.org/wp-content/uploads/2025/09/Bembe-Journey-the-Atlantic-2025-Graphic-1-3.jpg
END:VEVENT
BEGIN:VEVENT
DTSTART;TZID=America/Chicago:20260320T193000
DTEND;TZID=America/Chicago:20260320T193000
DTSTAMP:20260423T055327
CREATED:20250923T151927Z
LAST-MODIFIED:20260309T205857Z
UID:7795-1774035000-1774035000@www.marcuscenter.org
SUMMARY:One Night Of Queen
DESCRIPTION:Get ready for an unforgettable night of rock anthems\, soaring vocals\, and unstoppable energy as Gary Mullen & The Works bring Queen’s legendary music to life. This internationally acclaimed tribute captures the power\, passion\, and theatricality of Freddie Mercury and Queen’s greatest hits.  \nFronted by Gary Mullen on vocals with David Brockett on guitar\, Malcolm Gentles on keyboards\, Jon Halliwell on drums\, and Alan McGeoch on bass\, the band has been thrilling audiences worldwide for over two decades\, selling out venues from Europe to the U.S. One Night of Queen captures the magic of Queen like never before in this unforgettable tribute. The show DOES go on! 
URL:https://www.marcuscenter.org/event/one-night-of-queen-2/
LOCATION:Uihlein Hall\, 929 N Water St\, Milwaukee\, WI\, 53202\, United States
CATEGORIES:25-26 Build Your Own Series,Build Your Own Series,MPAC Presents
ATTACH;FMTTYPE=image/jpeg:https://www.marcuscenter.org/wp-content/uploads/2025/09/ONOQ-1080x1080-1.jpg
END:VEVENT
BEGIN:VEVENT
DTSTART;TZID=America/Chicago:20261009T193000
DTEND;TZID=America/Chicago:20261009T193000
DTSTAMP:20260423T055327
CREATED:20260331T155020Z
LAST-MODIFIED:20260403T150442Z
UID:45891-1791574200-1791574200@www.marcuscenter.org
SUMMARY:Ghostbusters in Concert
DESCRIPTION:Experience the beloved 1984 classic film like never before\, with the music performed on stage by an orchestra. Audience members will enjoy the ultimate movie concert experience as Ghostbusters is presented on a large HD cinema screen\, fully synced to a live performance of Academy Award®-winning composer Elmer Berstein’s spine-tingling score.
URL:https://www.marcuscenter.org/event/ghostbusters-in-concert/
LOCATION:Uihlein Hall\, 929 N Water St\, Milwaukee\, WI\, 53202\, United States
CATEGORIES:Build Your Own Series
ATTACH;FMTTYPE=image/jpeg:https://www.marcuscenter.org/wp-content/uploads/2026/03/Static_Social-Instagram_1080x1080_Ghostbusters_2026_Regional_Venue_Date.jpg
END:VEVENT
END:VCALENDAR