BEGIN:VCALENDAR
VERSION:2.0
PRODID:-//Marcus Performing Arts Center - ECPv6.15.20//NONSGML v1.0//EN
CALSCALE:GREGORIAN
METHOD:PUBLISH
X-ORIGINAL-URL:https://www.marcuscenter.org
X-WR-CALDESC:Events for Marcus Performing Arts Center
REFRESH-INTERVAL;VALUE=DURATION:PT1H
X-Robots-Tag:noindex
X-PUBLISHED-TTL:PT1H
BEGIN:VTIMEZONE
TZID:America/Chicago
BEGIN:DAYLIGHT
TZOFFSETFROM:-0600
TZOFFSETTO:-0500
TZNAME:CDT
DTSTART:20230312T080000
END:DAYLIGHT
BEGIN:STANDARD
TZOFFSETFROM:-0500
TZOFFSETTO:-0600
TZNAME:CST
DTSTART:20231105T070000
END:STANDARD
BEGIN:DAYLIGHT
TZOFFSETFROM:-0600
TZOFFSETTO:-0500
TZNAME:CDT
DTSTART:20240310T080000
END:DAYLIGHT
BEGIN:STANDARD
TZOFFSETFROM:-0500
TZOFFSETTO:-0600
TZNAME:CST
DTSTART:20241103T070000
END:STANDARD
BEGIN:DAYLIGHT
TZOFFSETFROM:-0600
TZOFFSETTO:-0500
TZNAME:CDT
DTSTART:20250309T080000
END:DAYLIGHT
BEGIN:STANDARD
TZOFFSETFROM:-0500
TZOFFSETTO:-0600
TZNAME:CST
DTSTART:20251102T070000
END:STANDARD
END:VTIMEZONE
BEGIN:VEVENT
DTSTART;TZID=America/Chicago:20240917T193000
DTEND;TZID=America/Chicago:20240917T193000
DTSTAMP:20260423T163036
CREATED:20240325T224107Z
LAST-MODIFIED:20240806T151242Z
UID:5416-1726601400-1726601400@www.marcuscenter.org
SUMMARY:esperanza spalding
DESCRIPTION:Emphasizing simplicity and intimacy of her voice\, bass\, and songs\, in this special configuration of 2 musicians and 2 dancers\, esperanza performs songs from all 8 of her previous albums\, songs from current releases\, plus a special preview of her forthcoming project.   \nesperanza spalding (a.k.a. irma nejando) is an eaabibacliitoti* artist\, trained and initiated in the North American (masculine) jazz lineage and tradition. Her work interweaves through various combinations of instrumental music\, improvisation\, singing\, composition\, poetry\, dance\, therapeutic research\, storytelling\, teaching\, regenerative agriculture\, urban land & artist-sanctuary custodianship\, and growing in love as a daughter\, sister\, cousin\, niece\, auntie\, great-auntie\, friend\, while collaboratively decolonizing within and through her hometown community.      \nShe co-founded and serves as lead curator for Prismid Inc.\, a non-profit that creates and stewards artist residency\, performance\, and workshop space in Portland\, Oregon.  \nWith her dance company Off Brand gOdds (co-founded with Antonio Brown) and the Songwrights Apothecary Lab she leads multi-week performance\, teaching\, workshop\, and therapeutic-arts research residencies in collaboration with colleges and arts venues across the Americas\, and throughout the world.  \n*European-African ancestored being influenced by American cultures living in Indigenous Territories of Turtle Island  \n  \nThis show is part of the 2024/25 MPAC Presents Jazz series. To learn more and subscribe to all three jazz shows\, click here.
URL:https://www.marcuscenter.org/event/esperanza-spalding/
LOCATION:Uihlein Hall\, 929 N Water St\, Milwaukee\, WI\, 53202\, United States
CATEGORIES:24-25 Build Your Own Series,24-25 Jazz Series,Culture Collective
ATTACH;FMTTYPE=image/jpeg:https://www.marcuscenter.org/wp-content/uploads/2024/03/Esperanza-Spalding-Featured-Image.jpg
END:VEVENT
END:VCALENDAR