BEGIN:VCALENDAR
VERSION:2.0
PRODID:-//Marcus Performing Arts Center - ECPv6.15.20//NONSGML v1.0//EN
CALSCALE:GREGORIAN
METHOD:PUBLISH
X-ORIGINAL-URL:https://www.marcuscenter.org
X-WR-CALDESC:Events for Marcus Performing Arts Center
REFRESH-INTERVAL;VALUE=DURATION:PT1H
X-Robots-Tag:noindex
X-PUBLISHED-TTL:PT1H
BEGIN:VTIMEZONE
TZID:America/Chicago
BEGIN:DAYLIGHT
TZOFFSETFROM:-0600
TZOFFSETTO:-0500
TZNAME:CDT
DTSTART:20230312T080000
END:DAYLIGHT
BEGIN:STANDARD
TZOFFSETFROM:-0500
TZOFFSETTO:-0600
TZNAME:CST
DTSTART:20231105T070000
END:STANDARD
BEGIN:DAYLIGHT
TZOFFSETFROM:-0600
TZOFFSETTO:-0500
TZNAME:CDT
DTSTART:20240310T080000
END:DAYLIGHT
BEGIN:STANDARD
TZOFFSETFROM:-0500
TZOFFSETTO:-0600
TZNAME:CST
DTSTART:20241103T070000
END:STANDARD
BEGIN:DAYLIGHT
TZOFFSETFROM:-0600
TZOFFSETTO:-0500
TZNAME:CDT
DTSTART:20250309T080000
END:DAYLIGHT
BEGIN:STANDARD
TZOFFSETFROM:-0500
TZOFFSETTO:-0600
TZNAME:CST
DTSTART:20251102T070000
END:STANDARD
END:VTIMEZONE
BEGIN:VEVENT
DTSTART;VALUE=DATE:20240418
DTEND;VALUE=DATE:20240421
DTSTAMP:20260423T080300
CREATED:20230815T223051Z
LAST-MODIFIED:20240103T162916Z
UID:4403-1713398400-1713657599@www.marcuscenter.org
SUMMARY:Spamilton: An American Parody
DESCRIPTION:Created by Gerard Alessandrini\, the comic mastermind behind the long-running hit Forbidden Broadway\, and performed by a versatile cast of eight\, Spamilton: An American Parody is a side-splitting new musical parody. A crash course of everyone’s favorite Broadway blockbusters\, including celebrity satires\, pop culture zings accompanied with hip-hop on the piano! After tearing it up in New York\, Chicago\, Los Angeles\, and London\, Spamilton: An American Parody will stage a singing\, dancing\, comedy revolution in Milwaukee! \nCreated\, written\, and directed by Gerard Alessandrini \n“Smart\, silly and convulsively funny!” – Ben Brantley\, The New York Times \n“Uproariously entertaining! VERY FUNNY!” – Don Aucoin\, The Boston Globe \n“The next best thing to seeing Hamilton!” – Barbara Hoffman\, New York Post
URL:https://www.marcuscenter.org/event/spamilton-an-american-parody/
LOCATION:Wilson Theater at Vogel Hall\, 121 E State St\, Milwaukee\, WI\, 53202\, United States
CATEGORIES:23-24 Build Your Own Series
ATTACH;FMTTYPE=image/jpeg:https://www.marcuscenter.org/wp-content/uploads/2023/08/SPAM_Featured-Image.jpg
END:VEVENT
END:VCALENDAR