BEGIN:VCALENDAR
VERSION:2.0
PRODID:-//Marcus Performing Arts Center - ECPv6.15.20//NONSGML v1.0//EN
CALSCALE:GREGORIAN
METHOD:PUBLISH
X-WR-CALNAME:Marcus Performing Arts Center
X-ORIGINAL-URL:https://www.marcuscenter.org
X-WR-CALDESC:Events for Marcus Performing Arts Center
REFRESH-INTERVAL;VALUE=DURATION:PT1H
X-Robots-Tag:noindex
X-PUBLISHED-TTL:PT1H
BEGIN:VTIMEZONE
TZID:America/Chicago
BEGIN:DAYLIGHT
TZOFFSETFROM:-0600
TZOFFSETTO:-0500
TZNAME:CDT
DTSTART:20230312T080000
END:DAYLIGHT
BEGIN:STANDARD
TZOFFSETFROM:-0500
TZOFFSETTO:-0600
TZNAME:CST
DTSTART:20231105T070000
END:STANDARD
BEGIN:DAYLIGHT
TZOFFSETFROM:-0600
TZOFFSETTO:-0500
TZNAME:CDT
DTSTART:20240310T080000
END:DAYLIGHT
BEGIN:STANDARD
TZOFFSETFROM:-0500
TZOFFSETTO:-0600
TZNAME:CST
DTSTART:20241103T070000
END:STANDARD
BEGIN:DAYLIGHT
TZOFFSETFROM:-0600
TZOFFSETTO:-0500
TZNAME:CDT
DTSTART:20250309T080000
END:DAYLIGHT
BEGIN:STANDARD
TZOFFSETFROM:-0500
TZOFFSETTO:-0600
TZNAME:CST
DTSTART:20251102T070000
END:STANDARD
END:VTIMEZONE
BEGIN:VEVENT
DTSTART;TZID=America/Chicago:20240302T193000
DTEND;TZID=America/Chicago:20240302T193000
DTSTAMP:20260421T102825
CREATED:20230815T232309Z
LAST-MODIFIED:20240220T153912Z
UID:4426-1709407800-1709407800@www.marcuscenter.org
SUMMARY:ON YOUR FEET! The Story of Emilio & Gloria Estefan
DESCRIPTION:HER VOICE. HIS VISION. THEIR STORY. \nON YOUR FEET! is the inspiring true story about heart\, heritage and two people who believed in their talent—and each other—to become an international sensation: Emilio and Gloria Estefan. Now their story is an all-new exhilarating original musical winning the hearts of critics and audiences alike\, with the Chicago Tribune declaring “IT’S A HIT!” and The New York Times cheering\, “The very air in the room seems to vibrate in this undeniably crowd-pleasing musical!” \nON YOUR FEET! features some of the most iconic songs of the past quarter-century\, including “Rhythm is Gonna Get You\,” “Conga\,” “Get On Your Feet\,” “Don’t Want To Lose You Now\,” “1-2-3” and “Coming Out of the Dark.” Prepare to be on your feet from start to finish! \n“Infectiously fun with genuine heart! If you aren’t humming a Gloria Estefan hit when you leave the theater\, it might be time to check your pulse.” – Associated Press  \n “An exuberantly fun\, razzle-dazzle production!” – Variety  \n “Exhilarating dancing\, invigorating music\, and a truly inspirational story!” – Huffington Post  \n 
URL:https://www.marcuscenter.org/event/on-your-feet/
LOCATION:Uihlein Hall\, 929 N Water St\, Milwaukee\, WI\, 53202\, United States
CATEGORIES:23-24 Build Your Own Series
ATTACH;FMTTYPE=image/jpeg:https://www.marcuscenter.org/wp-content/uploads/2023/08/On-Your-Feet-Featured-Image.jpg
END:VEVENT
END:VCALENDAR