BEGIN:VCALENDAR
VERSION:2.0
PRODID:-//Marcus Performing Arts Center - ECPv6.15.20//NONSGML v1.0//EN
CALSCALE:GREGORIAN
METHOD:PUBLISH
X-ORIGINAL-URL:https://www.marcuscenter.org
X-WR-CALDESC:Events for Marcus Performing Arts Center
REFRESH-INTERVAL;VALUE=DURATION:PT1H
X-Robots-Tag:noindex
X-PUBLISHED-TTL:PT1H
BEGIN:VTIMEZONE
TZID:America/Chicago
BEGIN:DAYLIGHT
TZOFFSETFROM:-0600
TZOFFSETTO:-0500
TZNAME:CDT
DTSTART:20230312T080000
END:DAYLIGHT
BEGIN:STANDARD
TZOFFSETFROM:-0500
TZOFFSETTO:-0600
TZNAME:CST
DTSTART:20231105T070000
END:STANDARD
BEGIN:DAYLIGHT
TZOFFSETFROM:-0600
TZOFFSETTO:-0500
TZNAME:CDT
DTSTART:20240310T080000
END:DAYLIGHT
BEGIN:STANDARD
TZOFFSETFROM:-0500
TZOFFSETTO:-0600
TZNAME:CST
DTSTART:20241103T070000
END:STANDARD
BEGIN:DAYLIGHT
TZOFFSETFROM:-0600
TZOFFSETTO:-0500
TZNAME:CDT
DTSTART:20250309T080000
END:DAYLIGHT
BEGIN:STANDARD
TZOFFSETFROM:-0500
TZOFFSETTO:-0600
TZNAME:CST
DTSTART:20251102T070000
END:STANDARD
END:VTIMEZONE
BEGIN:VEVENT
DTSTART;TZID=America/Chicago:20240214T193000
DTEND;TZID=America/Chicago:20240214T193000
DTSTAMP:20260421T132308
CREATED:20230327T234342Z
LAST-MODIFIED:20240208T153741Z
UID:3639-1707939000-1707939000@www.marcuscenter.org
SUMMARY:Dance Theatre of Harlem
DESCRIPTION:A singular presence in the ballet world\, the Dance Theatre of Harlem presents a powerful vision for ballet in the 21st century. The 18-member company’s forward-thinking repertoire includes treasured classics\, neoclassical works by George Balanchine and resident choreographer Robert Garland\, and innovative contemporary works that use the language of ballet to celebrate African American culture. \nThrough performances\, community engagement\, and arts education\, the Company carries forward Dance Theatre of Harlem’s message of empowerment through the arts for all. \nDance Theatre of Harlem is presented with support from the New England Foundation for the Arts. \nThis show is part of the 2023/24 MPAC Presents Dance Series.
URL:https://www.marcuscenter.org/event/dance-theatre-of-harlem/
LOCATION:Uihlein Hall\, 929 N Water St\, Milwaukee\, WI\, 53202\, United States
CATEGORIES:23-24 Build Your Own Series,23-24 Dance Series,Culture Collective
ATTACH;FMTTYPE=image/jpeg:https://www.marcuscenter.org/wp-content/uploads/2023/03/DTH-Company-with-Arthur-Mitchell-Portrait.-Photo-by-Janee-Smith-1-e1706303814734.jpg
END:VEVENT
END:VCALENDAR