BEGIN:VCALENDAR
VERSION:2.0
PRODID:-//Marcus Performing Arts Center - ECPv6.15.20//NONSGML v1.0//EN
CALSCALE:GREGORIAN
METHOD:PUBLISH
X-WR-CALNAME:Marcus Performing Arts Center
X-ORIGINAL-URL:https://www.marcuscenter.org
X-WR-CALDESC:Events for Marcus Performing Arts Center
REFRESH-INTERVAL;VALUE=DURATION:PT1H
X-Robots-Tag:noindex
X-PUBLISHED-TTL:PT1H
BEGIN:VTIMEZONE
TZID:America/Chicago
BEGIN:DAYLIGHT
TZOFFSETFROM:-0600
TZOFFSETTO:-0500
TZNAME:CDT
DTSTART:20240310T080000
END:DAYLIGHT
BEGIN:STANDARD
TZOFFSETFROM:-0500
TZOFFSETTO:-0600
TZNAME:CST
DTSTART:20241103T070000
END:STANDARD
BEGIN:DAYLIGHT
TZOFFSETFROM:-0600
TZOFFSETTO:-0500
TZNAME:CDT
DTSTART:20250309T080000
END:DAYLIGHT
BEGIN:STANDARD
TZOFFSETFROM:-0500
TZOFFSETTO:-0600
TZNAME:CST
DTSTART:20251102T070000
END:STANDARD
BEGIN:DAYLIGHT
TZOFFSETFROM:-0600
TZOFFSETTO:-0500
TZNAME:CDT
DTSTART:20260308T080000
END:DAYLIGHT
BEGIN:STANDARD
TZOFFSETFROM:-0500
TZOFFSETTO:-0600
TZNAME:CST
DTSTART:20261101T070000
END:STANDARD
END:VTIMEZONE
BEGIN:VEVENT
DTSTART;VALUE=DATE:20250730
DTEND;VALUE=DATE:20250818
DTSTAMP:20260421T132134
CREATED:20240312T180716Z
LAST-MODIFIED:20250814T173925Z
UID:5181-1753833600-1755475199@www.marcuscenter.org
SUMMARY:WICKED
DESCRIPTION:So much happened before Dorothy dropped in. \nWICKED\, the Broadway sensation\, looks at what happened in the Land of Oz…but from a different angle.  Long before Dorothy arrives\, there is another young woman\, born with emerald-green skin—smart\, fiery\, misunderstood\, and possessing an extraordinary talent. When she meets a bubbly blonde who is exceptionally popular\, their initial rivalry turns into the unlikeliest of friendships…until the world decides to call one “good\,” and the other one “wicked.” \nFrom the first electrifying note to the final breathtaking moment\, WICKED—the untold true story of the Witches of Oz—transfixes audiences with its wildly inventive story that USA Today cheers is “a complete triumph! An original musical that will make you laugh\, cry\, and think.”  \nBonus Experiences:\nBroadway Buzz: Cocktails to Curtain – a pre-show discussion open to all ticket holders in MPAC’s Anello Atrium every Wednesday from 6:30 – 7:15 PM. Hosted by MPAC’s Vice President of Marketing\, Lory Bowman\, and Critics’ Choice Association member and entertainment journalist\, Ryan Jay\, the discussion will include insights about the shows\, news from Broadway in New York\, and other relevant (and perhaps irrelevant) information to those attending the performance. \nWednesday\, July 30:  6:30 – 7:15PM \nWednesday\, August 6: 6:30 – 7:15PM \nWednesday\, August 13: 6:30 – 7:15PM \nPost-Show Q&A – Join us for a post-show Q&A with some of the cast after the show on Thursday\, August 7 and Thursday\, August 14 following the show on the orchestra level. \n All Show Dates Wednesday\, July 30\, 2025 @ 7:30 PM Thursday\, July 31\, 2025 @ 1:00 PM Thursday\, July 31\, 2025 @ 7:30 PM Friday\, August 1\, 2025 @ 7:30 PM Saturday\, August 2\, 2025 @ 2:00 PM Saturday\, August 2\, 2025 @ 7:30 PM Sunday\, August 3\, 2025 @ 1:00 PM Sunday\, August 3\, 2025 @ 6:30 PM Tuesday\, August 5\, 2025 @ 7:30 PM Wednesday\, August 6\, 2025 @ 7:30 PM Thursday\, August 7\, 2025 @ 7:30 PM Friday\, August 8\, 2025 @ 7:30 PM Saturday\, August 9\, 2025 @ 2:00 PM Saturday\, August 9\, 2025 @ 7:30 PM Sunday\, August 10\, 2025 @ 1:00 PM Sunday\, August 10\, 2025 @ 6:30 PM Tuesday\, August 12\, 2025 @ 7:30 PM Wednesday\, August 13\, 2025 @ 7:30 PM Thursday\, August 14\, 2025 @ 7:30 PM Friday\, August 15\, 2025 @ 7:30 PM Saturday\, August 16\, 2025 @ 2:00 PM Saturday\, August 16\, 2025 @ 7:30 PM Sunday\, August 17\, 2025 @ 1:00 PM Sunday\, August 17\, 2025 @ 6:30 PM
URL:https://www.marcuscenter.org/event/wicked/
LOCATION:Uihlein Hall\, 929 N Water St\, Milwaukee\, WI\, 53202\, United States
CATEGORIES:24-25 Broadway Series,Johnson Financial Group Broadway Series
ATTACH;FMTTYPE=image/jpeg:https://www.marcuscenter.org/wp-content/uploads/2024/02/Wicked-featured-Image.jpg
END:VEVENT
END:VCALENDAR