BEGIN:VCALENDAR
VERSION:2.0
PRODID:-//Marcus Performing Arts Center - ECPv6.15.20//NONSGML v1.0//EN
CALSCALE:GREGORIAN
METHOD:PUBLISH
X-ORIGINAL-URL:https://www.marcuscenter.org
X-WR-CALDESC:Events for Marcus Performing Arts Center
REFRESH-INTERVAL;VALUE=DURATION:PT1H
X-Robots-Tag:noindex
X-PUBLISHED-TTL:PT1H
BEGIN:VTIMEZONE
TZID:America/Chicago
BEGIN:DAYLIGHT
TZOFFSETFROM:-0600
TZOFFSETTO:-0500
TZNAME:CDT
DTSTART:20230312T080000
END:DAYLIGHT
BEGIN:STANDARD
TZOFFSETFROM:-0500
TZOFFSETTO:-0600
TZNAME:CST
DTSTART:20231105T070000
END:STANDARD
BEGIN:DAYLIGHT
TZOFFSETFROM:-0600
TZOFFSETTO:-0500
TZNAME:CDT
DTSTART:20240310T080000
END:DAYLIGHT
BEGIN:STANDARD
TZOFFSETFROM:-0500
TZOFFSETTO:-0600
TZNAME:CST
DTSTART:20241103T070000
END:STANDARD
BEGIN:DAYLIGHT
TZOFFSETFROM:-0600
TZOFFSETTO:-0500
TZNAME:CDT
DTSTART:20250309T080000
END:DAYLIGHT
BEGIN:STANDARD
TZOFFSETFROM:-0500
TZOFFSETTO:-0600
TZNAME:CST
DTSTART:20251102T070000
END:STANDARD
END:VTIMEZONE
BEGIN:VEVENT
DTSTART;VALUE=DATE:20241001
DTEND;VALUE=DATE:20241007
DTSTAMP:20260421T031342
CREATED:20240312T175630Z
LAST-MODIFIED:20240918T183900Z
UID:5031-1727740800-1728259199@www.marcuscenter.org
SUMMARY:Beetlejuice
DESCRIPTION:He earned his stripes on Broadway… now the ghost-with-the-most is coming to Milwaukee.   \nIt’s showtime! Based on Tim Burton’s dearly beloved film\, this hilarious musical tells the story of Lydia Deetz\, a strange and unusual teenager whose whole life changes when she meets a recently deceased couple and a demon with a thing for stripes. With an irreverent book\, an astonishing set\, and a score that’s out of this Netherworld\, BEETLEJUICE is “SCREAMINGLY GOOD FUN!” (Variety). And under its uproarious surface (six feet under\, to be exact)\, it’s a remarkably touching show about family\, love\, and making the most of every Day-O!  \nRecommended for 13+. Parental discretion advised. Contains strong language\, mature subject matter\, and a lot of the crazy\, inappropriate stuff you would expect from a deranged demon. \nAdvisory: Beetlejuice includes substantial haze and fog\, sudden loud noises\, pyrotechnic and strobe lighting effects.  \n“A FEAST FOR THE EYES AND THE SOUL!” – Entertainment Weekly \n“A JOYFUL\, EBULLIENT ANTIDOTE TO REALITY!” – Rolling Stone \n  \nBonus Experiences:\nBroadway Buzz: Cocktails to Curtain – a pre-show discussion open to all ticket holders in MPAC’s Anello Atrium on Tuesday\, October 1 from 6:30 – 7:15 PM. Hosted by MPAC’s Vice President of Programming\, Jared Duymovic\, and Critics’ Choice Association member and entertainment journalist\, Ryan Jay\, the discussion will include insights about the shows\, news from Broadway in New York\, and other relevant (and perhaps irrelevant) information to those attending the performance.  \nPost-Show Q&A – Join us for a post-show Q&A with some of the cast after the show on Thursday\, October 3! Simply move up near the front of the stage once the house lights go up.
URL:https://www.marcuscenter.org/event/beetlejuice/
LOCATION:Uihlein Hall\, 929 N Water St\, Milwaukee\, WI\, 53202\, United States
CATEGORIES:24-25 Broadway Series,Johnson Financial Group Broadway Series
ATTACH;FMTTYPE=image/jpeg:https://www.marcuscenter.org/wp-content/uploads/2024/02/Beetlejuice-Featured-Image.jpg
END:VEVENT
BEGIN:VEVENT
DTSTART;VALUE=DATE:20241003
DTEND;VALUE=DATE:20241104
DTSTAMP:20260421T031342
CREATED:20240905T184231Z
LAST-MODIFIED:20240905T184231Z
UID:6143-1727913600-1730678399@www.marcuscenter.org
SUMMARY:Pete The Cat
DESCRIPTION:Based on the Pete the Cat series of books by Kimberly and James Dean \nMeet Pete. He’s one groovy\, guitar-playing cat\, who likes his music cool and his coffee sweet. When Pete moves in with the Biddles\, Jimmy—the most organized second grader on earth—is unsure of this cat’s antics and laid-back ‘tude. But when he draws a blank in art class\, Pete’s the perfect pal to lead the mission to help Jimmy find his inspiration. Board the VW bus for a trip around the globe with Pete\, Jimmy and friends in this hilarious\, toe-tapping musical! \n Event Dates & Times Fri. 10/04 @ 7 PM Sat. 10/05 @ 1 PM & 3:30 PM Sun. 10/06 @ 1 PM & 3:30 PM Sat. 10/12 @ 11 AM\, 1 PM & 3:30 PM Sun. 10/13 @ 1 PM & 3:30 PM Fri. 10/18 @ 7 PM* Sat. 10/19 @ 11 AM\, 1 PM & 3:30 PM Sun. 10/20 @ 1 PM & 3:30 PM Sat. 10/26 @ 11 AM\, 1 PM & 3:30 PM** Sat. 11/02 @ 11 AM\, 1 PM & 3:30 PM Sun. 11/03 @ 1 PM & 3:30 PM   *Pay What You Choose Performance**Sensory Friendly Performance
URL:https://www.marcuscenter.org/event/pete-the-cat/
LOCATION:Todd Wehr Theater\, 123 E. State St\, Milwaukee\, WI\, United States
CATEGORIES:First Stage Children's Theater
ATTACH;FMTTYPE=image/jpeg:https://www.marcuscenter.org/wp-content/uploads/2024/09/PetetheCat-FeaturedImage.jpg
END:VEVENT
END:VCALENDAR